BEGIN:VCALENDAR
VERSION:2.0
PRODID:-//https://calenda-formation.labocleo.org
X-WR-CALNAME:Calenda
X-WR-TIMEZONE:Europe/Paris
CALSCALE:GREGORIAN
X-WR-CALDESC:The calendar for arts, humanities and social sciences
METHOD:PUBLISH
BEGIN:VEVENT
DTSTART;VALUE=DATE:20030226
DTEND;VALUE=DATE:20030227
UID:187765-20030226@calenda.revues.org
SUMMARY:Ethnologie religieuse de l’Europe
URL:https://calenda-formation.labocleo.org/187765
DESCRIPTION: Ecole Pratique des Hautes Etudes   Sorbonne\, section des sciences religieuses   45-47 rue des Ecoles   Ethnologie religieuse de l’Europe   Giordana CHARUTY\, Directeur d’études      1. L’invention d’une religion scientifique (suite): savants et maît… @plus_info https://calenda-formation.labocleo.org/187765
LOCATION:Paris
END:VEVENT
END:VCALENDAR
