BEGIN:VCALENDAR
VERSION:2.0
PRODID:-//https://calenda-formation.labocleo.org
X-WR-CALNAME:Calenda
X-WR-TIMEZONE:Europe/Paris
CALSCALE:GREGORIAN
X-WR-CALDESC:Le calendrier des lettres et sciences humaines et sociales
METHOD:PUBLISH
BEGIN:VEVENT
DTSTART;VALUE=DATE:20030305
DTEND;VALUE=DATE:20030306
UID:187815-20030305@calenda.revues.org
SUMMARY:Goulag: sources et secrets
URL:https://calenda-formation.labocleo.org/187815
DESCRIPTION:Goulag  : sources et secrets.      La dissolution de l’URSS\, a permis l’accès à de nouvelles sources d’informations sur le système concentrationnaire soviétique. Iconographiques ou matérielles\, écrites ou orales\, publiques ou privées\, de nature et de… Más informaciones https://calenda-formation.labocleo.org/187815
LOCATION:París
END:VEVENT
END:VCALENDAR
