BEGIN:VCALENDAR
VERSION:2.0
PRODID:-//https://calenda-formation.labocleo.org
X-WR-CALNAME:Calenda
X-WR-TIMEZONE:Europe/Paris
CALSCALE:GREGORIAN
X-WR-CALDESC:Le calendrier des lettres et sciences humaines et sociales
METHOD:PUBLISH
BEGIN:VEVENT
DTSTART;VALUE=DATE:20040401
DTEND;VALUE=DATE:20040402
UID:187823-20040401@calenda.revues.org
SUMMARY:Redécouvrir André Philip
URL:https://calenda-formation.labocleo.org/187823
DESCRIPTION:           REDECOUVRIR ANDRE PHILIP    L'inscription est obligatoire pour assister au colloque (le programme officiel sera exigé à l'entrée).  André Philip a une carrière politique exceptionnelle de part et d'autre de la guerre conseiller g… @plus_info https://calenda-formation.labocleo.org/187823
LOCATION:Paris
END:VEVENT
END:VCALENDAR
