BEGIN:VCALENDAR
VERSION:2.0
PRODID:-//https://calenda-formation.labocleo.org
X-WR-CALNAME:Calenda
X-WR-TIMEZONE:Europe/Paris
CALSCALE:GREGORIAN
X-WR-CALDESC:The calendar for arts, humanities and social sciences
METHOD:PUBLISH
BEGIN:VEVENT
DTSTART;VALUE=DATE:20030522
DTEND;VALUE=DATE:20030523
UID:187831-20030522@calenda.revues.org
SUMMARY:La dévotion mariale
URL:https://calenda-formation.labocleo.org/187831
DESCRIPTION:La dévotion mariale        Jeudi 22 mai 2003       Leçons inaugurales : synthèses sur l'évolution du culte marial       10 h. Le Moyen Age\, par Henri Platelle (Académie royale de Belgique)    10 h. 30. Les temps modernes\, par Alain Lottin (U. d'Art… @plus_info https://calenda-formation.labocleo.org/187831
LOCATION:Boulogne
END:VEVENT
END:VCALENDAR
