BEGIN:VCALENDAR
VERSION:2.0
PRODID:-//https://calenda-formation.labocleo.org
X-WR-CALNAME:Calenda
X-WR-TIMEZONE:Europe/Paris
CALSCALE:GREGORIAN
X-WR-CALDESC:The calendar for arts, humanities and social sciences
METHOD:PUBLISH
BEGIN:VEVENT
DTSTART;VALUE=DATE:20030410
DTEND;VALUE=DATE:20030411
UID:187890-20030410@calenda.revues.org
SUMMARY:Stigmates de l'exclusion
URL:https://calenda-formation.labocleo.org/187890
DESCRIPTION:Jeudi 10 avril 2003    Conférence de Bronislaw GEREMEK   "Stigmates de l'exclusion"      à 18 h 45 à l'Hôtel du Département des Bouches-du-Rhône   52 avenue de Saint-Just 13004 Marseille   métro Saint-Just   entrée libre      Historien majeur du… @plus_info https://calenda-formation.labocleo.org/187890
LOCATION:Marseille
END:VEVENT
END:VCALENDAR
