BEGIN:VCALENDAR
VERSION:2.0
PRODID:-//https://calenda-formation.labocleo.org
X-WR-CALNAME:Calenda
X-WR-TIMEZONE:Europe/Paris
CALSCALE:GREGORIAN
X-WR-CALDESC:Le calendrier des lettres et sciences humaines et sociales
METHOD:PUBLISH
BEGIN:VEVENT
DTSTART;VALUE=DATE:20030415
DTEND;VALUE=DATE:20030416
UID:187904-20030415@calenda.revues.org
SUMMARY:Cultural conquests
URL:https://calenda-formation.labocleo.org/187904
DESCRIPTION:CULTURAL CONQUESTS 1500-2000  AN INTERNATIONAL COLLOQUIUM  PRAGUE\, 11.9. -  14.9. 2003    Conquerors of all kinds have made not only political and economic demands on the defeated\, but have repeatedly also attempted to impose new cultures on them\, an… Weitere Informationen https://calenda-formation.labocleo.org/187904
LOCATION:Prag
END:VEVENT
END:VCALENDAR
