BEGIN:VCALENDAR
VERSION:2.0
PRODID:-//https://calenda-formation.labocleo.org
X-WR-CALNAME:Calenda
X-WR-TIMEZONE:Europe/Paris
CALSCALE:GREGORIAN
X-WR-CALDESC:Le calendrier des lettres et sciences humaines et sociales
METHOD:PUBLISH
BEGIN:VEVENT
DTSTART;VALUE=DATE:20030630
DTEND;VALUE=DATE:20030701
UID:188030-20030630@calenda.revues.org
SUMMARY:Rencontres et conflits en Europe et en Méditerranée
URL:https://calenda-formation.labocleo.org/188030
DESCRIPTION: Among Others:  Conflict and Encounter in European and Mediterranean Societies     Entre Autres : Rencontres et conflits en Europe et en Méditerranée            A Congress in European and Mediterranean Comparative Ethnology.  8th Congress of SIEF… Weitere Informationen https://calenda-formation.labocleo.org/188030
LOCATION:Marseille
END:VEVENT
END:VCALENDAR
