BEGIN:VCALENDAR
VERSION:2.0
PRODID:-//https://calenda-formation.labocleo.org
X-WR-CALNAME:Calenda
X-WR-TIMEZONE:Europe/Paris
CALSCALE:GREGORIAN
X-WR-CALDESC:Le calendrier des lettres et sciences humaines et sociales
METHOD:PUBLISH
BEGIN:VEVENT
DTSTART;VALUE=DATE:20030512
DTEND;VALUE=DATE:20030513
UID:188055-20030512@calenda.revues.org
SUMMARY:Cartographie et histoire urbaine
URL:https://calenda-formation.labocleo.org/188055
DESCRIPTION:12\,13 mai 2003  Ecole Française de Rome  Piazza Navona\, 62  Rome    Croma - Università Roma Tre  École française de Rome   Istituto Universitario di Architettura di Venezia  Archivio Storico Capitolino       … Weitere Informationen https://calenda-formation.labocleo.org/188055
LOCATION:Rom
END:VEVENT
END:VCALENDAR
