BEGIN:VCALENDAR
VERSION:2.0
PRODID:-//https://calenda-formation.labocleo.org
X-WR-CALNAME:Calenda
X-WR-TIMEZONE:Europe/Paris
CALSCALE:GREGORIAN
X-WR-CALDESC:Le calendrier des lettres et sciences humaines et sociales
METHOD:PUBLISH
BEGIN:VEVENT
DTSTART;VALUE=DATE:20030603
DTEND;VALUE=DATE:20030604
UID:188076-20030603@calenda.revues.org
SUMMARY:La Flandre\, les Flamands et le flamand\, d'hier à aujourd'hui
URL:https://calenda-formation.labocleo.org/188076
DESCRIPTION:1. Le 3 juin 2003 de 17h30 à 19h30 à l’Université Catholique de Lille\, 60 boulevard Vauban\, (salle 170)   Présentation : Eric Vanneufville : « Géographie de la Flandre »   Conférence : Dries Tys : « La formation du littoral flamand et l’intervention … Weitere Informationen https://calenda-formation.labocleo.org/188076
LOCATION:Lille\, Saint-Pol-sur-Mer
END:VEVENT
BEGIN:VEVENT
DTSTART;VALUE=DATE:20030705
DTEND;VALUE=DATE:20030706
UID:188076-20030705@calenda.revues.org
SUMMARY:La Flandre\, les Flamands et le flamand\, d'hier à aujourd'hui
URL:https://calenda-formation.labocleo.org/188076
DESCRIPTION:1. Le 3 juin 2003 de 17h30 à 19h30 à l’Université Catholique de Lille\, 60 boulevard Vauban\, (salle 170)   Présentation : Eric Vanneufville : « Géographie de la Flandre »   Conférence : Dries Tys : « La formation du littoral flamand et l’intervention … Weitere Informationen https://calenda-formation.labocleo.org/188076
LOCATION:Lille\, Saint-Pol-sur-Mer
END:VEVENT
END:VCALENDAR
