BEGIN:VCALENDAR
VERSION:2.0
PRODID:-//https://calenda-formation.labocleo.org
X-WR-CALNAME:Calenda
X-WR-TIMEZONE:Europe/Paris
CALSCALE:GREGORIAN
X-WR-CALDESC:Le calendrier des lettres et sciences humaines et sociales
METHOD:PUBLISH
BEGIN:VEVENT
DTSTART;VALUE=DATE:20030831
DTEND;VALUE=DATE:20030901
UID:188101-20030831@calenda.revues.org
SUMMARY:Frontières\, frontière…
URL:https://calenda-formation.labocleo.org/188101
DESCRIPTION:    Maison des Sciences de l’Homme d’Aquitaine      Frontières\, frontière…  26 et 27 février 2004    Longtemps considéré\, non sans tort ni raison\, comme un homme qui dessine des cartes\, le géographe est familier des limites : les traits de côte\, l… Más informaciones https://calenda-formation.labocleo.org/188101
LOCATION:Burdeos
END:VEVENT
END:VCALENDAR
