BEGIN:VCALENDAR
VERSION:2.0
PRODID:-//https://calenda-formation.labocleo.org
X-WR-CALNAME:Calenda
X-WR-TIMEZONE:Europe/Paris
CALSCALE:GREGORIAN
X-WR-CALDESC:Le calendrier des lettres et sciences humaines et sociales
METHOD:PUBLISH
BEGIN:VEVENT
DTSTART;VALUE=DATE:20030605
DTEND;VALUE=DATE:20030606
UID:188122-20030605@calenda.revues.org
SUMMARY:La notion de profane dans la cité antique
URL:https://calenda-formation.labocleo.org/188122
DESCRIPTION:    L’UPR 76 et l’École française de Rome   vous invitent au séminaire      Les frontières du profane dans l’Empire romain pendant l’Antiquité tardive      Ce programme de recherche est coordonné par Éric Rebillard (Centre d’anthropologie religieuse… Weitere Informationen https://calenda-formation.labocleo.org/188122
LOCATION:Villejuif
END:VEVENT
END:VCALENDAR
