BEGIN:VCALENDAR
VERSION:2.0
PRODID:-//https://calenda-formation.labocleo.org
X-WR-CALNAME:Calenda
X-WR-TIMEZONE:Europe/Paris
CALSCALE:GREGORIAN
X-WR-CALDESC:Le calendrier des lettres et sciences humaines et sociales
METHOD:PUBLISH
BEGIN:VEVENT
DTSTART;VALUE=DATE:20030606
DTEND;VALUE=DATE:20030607
UID:188131-20030606@calenda.revues.org
SUMMARY:Cafés\, styles et territoires
URL:https://calenda-formation.labocleo.org/188131
DESCRIPTION:L'équipe "Cafés\, styles et territoires" du LAU (CNRS) organise un séminaire de recherche le vendredi 6 juin 2003. Les doctorant-e-s\, universitaires et chercheur-e-s souhaitant y participer peuvent prendre contact avec Eliane Daphy (daphy@ivry.cnrs.fr… Más informaciones https://calenda-formation.labocleo.org/188131
LOCATION:
END:VEVENT
END:VCALENDAR
