BEGIN:VCALENDAR
VERSION:2.0
PRODID:-//https://calenda-formation.labocleo.org
X-WR-CALNAME:Calenda
X-WR-TIMEZONE:Europe/Paris
CALSCALE:GREGORIAN
X-WR-CALDESC:Le calendrier des lettres et sciences humaines et sociales
METHOD:PUBLISH
BEGIN:VEVENT
DTSTART;VALUE=DATE:20040826
DTEND;VALUE=DATE:20040827
UID:188173-20040826@calenda.revues.org
SUMMARY:Archéologie et Histoire de la Belgique
URL:https://calenda-formation.labocleo.org/188173
DESCRIPTION:Madame\,   Mademoiselle\,   Monsieur\,      Le septième Congrès de l’Association des Cercles francophones d’Histoire et d’Archéologie\, qui sera aussi le LIVe Congrès de la Fédération des Cercles d’Archéologie et d’Histoire de Belgique se déroulera en Br… @plus_info https://calenda-formation.labocleo.org/188173
LOCATION:Louvain-la-Neuve
END:VEVENT
BEGIN:VEVENT
DTSTART;VALUE=DATE:20040828
DTEND;VALUE=DATE:20040829
UID:188173-20040828@calenda.revues.org
SUMMARY:Archéologie et Histoire de la Belgique
URL:https://calenda-formation.labocleo.org/188173
DESCRIPTION:Madame\,   Mademoiselle\,   Monsieur\,      Le septième Congrès de l’Association des Cercles francophones d’Histoire et d’Archéologie\, qui sera aussi le LIVe Congrès de la Fédération des Cercles d’Archéologie et d’Histoire de Belgique se déroulera en Br… @plus_info https://calenda-formation.labocleo.org/188173
LOCATION:Louvain-la-Neuve
END:VEVENT
END:VCALENDAR
