BEGIN:VCALENDAR
VERSION:2.0
PRODID:-//https://calenda-formation.labocleo.org
X-WR-CALNAME:Calenda
X-WR-TIMEZONE:Europe/Paris
CALSCALE:GREGORIAN
X-WR-CALDESC:Le calendrier des lettres et sciences humaines et sociales
METHOD:PUBLISH
BEGIN:VEVENT
DTSTART;VALUE=DATE:20030910
DTEND;VALUE=DATE:20030911
UID:188189-20030910@calenda.revues.org
SUMMARY:Faut-il interdire le clonage humain ?
URL:https://calenda-formation.labocleo.org/188189
DESCRIPTION: ENTRETIENS DU XXIe SIECLE  organisés par la Division de la prospective\, de la philosophie et des sciences humaines de l’UNESCO  MERCREDI 10 SEPTEMBRE DE 18H00 A 20H30    « FAUT-IL INTERDIRE LE CLONAGE HUMAIN ? »  La prochaine séance des Entretiens… Más informaciones https://calenda-formation.labocleo.org/188189
LOCATION:París
END:VEVENT
END:VCALENDAR
