BEGIN:VCALENDAR
VERSION:2.0
PRODID:-//https://calenda-formation.labocleo.org
X-WR-CALNAME:Calenda
X-WR-TIMEZONE:Europe/Paris
CALSCALE:GREGORIAN
X-WR-CALDESC:Le calendrier des lettres et sciences humaines et sociales
METHOD:PUBLISH
BEGIN:VEVENT
DTSTART;VALUE=DATE:20031018
DTEND;VALUE=DATE:20031019
UID:188190-20031018@calenda.revues.org
SUMMARY:Inhumations et édifices religieux au Moyen Âge
URL:https://calenda-formation.labocleo.org/188190
DESCRIPTION:    Table ronde organisée par le Centre de Recherches Archéologiques et Historiques Médiévales\, Université de Caen\, UMR 6577      PRESENTATION    Cette première table ronde s’inscrit dans le prolongement des recherches menées au sein du groupe… @plus_info https://calenda-formation.labocleo.org/188190
LOCATION:Caen
END:VEVENT
END:VCALENDAR
