BEGIN:VCALENDAR
VERSION:2.0
PRODID:-//https://calenda-formation.labocleo.org
X-WR-CALNAME:Calenda
X-WR-TIMEZONE:Europe/Paris
CALSCALE:GREGORIAN
X-WR-CALDESC:The calendar for arts, humanities and social sciences
METHOD:PUBLISH
BEGIN:VEVENT
DTSTART;VALUE=DATE:20040104
DTEND;VALUE=DATE:20040105
UID:188231-20040104@calenda.revues.org
SUMMARY:Les réseaux postaux en Europe du XVIIIe au XXIe siècles
URL:https://calenda-formation.labocleo.org/188231
DESCRIPTION:COLLOQUE INTERNATIONAL SUR L’HISTOIRE DES POSTES Comité pour l’Histoire de La Poste –  Institut d’Histoire Moderne et Contemporaine (CNRS) – Ecole Normale Supérieure\, rue d’Ulm Paris\, les 10\, 11 et 12 juin 2004 Les réseaux postaux en Europe du XV… @plus_info https://calenda-formation.labocleo.org/188231
LOCATION:Paris
END:VEVENT
END:VCALENDAR
