BEGIN:VCALENDAR
VERSION:2.0
PRODID:-//https://calenda-formation.labocleo.org
X-WR-CALNAME:Calenda
X-WR-TIMEZONE:Europe/Paris
CALSCALE:GREGORIAN
X-WR-CALDESC:Le calendrier des lettres et sciences humaines et sociales
METHOD:PUBLISH
BEGIN:VEVENT
DTSTART;VALUE=DATE:20031113
DTEND;VALUE=DATE:20031114
UID:188279-20031113@calenda.revues.org
SUMMARY:Langues et identités culturelles
URL:https://calenda-formation.labocleo.org/188279
DESCRIPTION:Langues et identités culturelles dans l'Europe des XVIe et XVIIe siècles Colloque international organisé par le Groupe de recherche “XVIe-XVIIe siècles en Europe” (EA ROMANIA)  les 13\, 14 et 15 novembre 2003 Colloque organisé avec le soutien de l’Uni… @plus_info https://calenda-formation.labocleo.org/188279
LOCATION:Nancy
END:VEVENT
END:VCALENDAR
