BEGIN:VCALENDAR
VERSION:2.0
PRODID:-//https://calenda-formation.labocleo.org
X-WR-CALNAME:Calenda
X-WR-TIMEZONE:Europe/Paris
CALSCALE:GREGORIAN
X-WR-CALDESC:The calendar for arts, humanities and social sciences
METHOD:PUBLISH
BEGIN:VEVENT
DTSTART;VALUE=DATE:20031023
DTEND;VALUE=DATE:20031024
UID:188323-20031023@calenda.revues.org
SUMMARY:Médiation et technologies de l¹information
URL:https://calenda-formation.labocleo.org/188323
DESCRIPTION:Aujourd¹hui\, la tendance lourde dans les services d¹information est de développer de plus en plus des médiations « virtuelles »\, au travers des Intranets et/ou des sites web. Beaucoup de travaux de développement sont actuellement menés pour affiner c… @plus_info https://calenda-formation.labocleo.org/188323
LOCATION:Paris
END:VEVENT
END:VCALENDAR
