BEGIN:VCALENDAR
VERSION:2.0
PRODID:-//https://calenda-formation.labocleo.org
X-WR-CALNAME:Calenda
X-WR-TIMEZONE:Europe/Paris
CALSCALE:GREGORIAN
X-WR-CALDESC:Le calendrier des lettres et sciences humaines et sociales
METHOD:PUBLISH
BEGIN:VEVENT
DTSTART;VALUE=DATE:20031016
DTEND;VALUE=DATE:20031017
UID:188350-20031016@calenda.revues.org
SUMMARY:Valeurs islamiques et réalités centre-asiatiques
URL:https://calenda-formation.labocleo.org/188350
DESCRIPTION:L'IFEAC organise\, en collaboration avec le Goethe Institut\, une conférence sur le thème « Valeurs islamiques et réalités centre-asiatiques ». Celle-ci se tiendra le 16 octobre 2003 au Centre de presse à Tachkent.… Más informaciones https://calenda-formation.labocleo.org/188350
LOCATION:
END:VEVENT
END:VCALENDAR
