BEGIN:VCALENDAR
VERSION:2.0
PRODID:-//https://calenda-formation.labocleo.org
X-WR-CALNAME:Calenda
X-WR-TIMEZONE:Europe/Paris
CALSCALE:GREGORIAN
X-WR-CALDESC:Le calendrier des lettres et sciences humaines et sociales
METHOD:PUBLISH
BEGIN:VEVENT
DTSTART;VALUE=DATE:20040207
DTEND;VALUE=DATE:20040208
UID:188403-20040207@calenda.revues.org
SUMMARY:Guerres et statistiques
URL:https://calenda-formation.labocleo.org/188403
DESCRIPTION: Quatrième journée d'études de l'Institut Jean - Baptiste Say  - DEA Histoire et connaissance des civilisations - … Weitere Informationen https://calenda-formation.labocleo.org/188403
LOCATION:
END:VEVENT
END:VCALENDAR
