BEGIN:VCALENDAR
VERSION:2.0
PRODID:-//https://calenda-formation.labocleo.org
X-WR-CALNAME:Calenda
X-WR-TIMEZONE:Europe/Paris
CALSCALE:GREGORIAN
X-WR-CALDESC:The calendar for arts, humanities and social sciences
METHOD:PUBLISH
BEGIN:VEVENT
DTSTART;VALUE=DATE:20031106
DTEND;VALUE=DATE:20031107
UID:188436-20031106@calenda.revues.org
SUMMARY:Paysages\, modes d'emplois
URL:https://calenda-formation.labocleo.org/188436
DESCRIPTION:Colloque sur la théorie générale du paysage organisé par l'Université Lyon III… @plus_info https://calenda-formation.labocleo.org/188436
LOCATION:Lyon
END:VEVENT
END:VCALENDAR
