BEGIN:VCALENDAR
VERSION:2.0
PRODID:-//https://calenda-formation.labocleo.org
X-WR-CALNAME:Calenda
X-WR-TIMEZONE:Europe/Paris
CALSCALE:GREGORIAN
X-WR-CALDESC:Le calendrier des lettres et sciences humaines et sociales
METHOD:PUBLISH
BEGIN:VEVENT
DTSTART;VALUE=DATE:20031106
DTEND;VALUE=DATE:20031107
UID:188498-20031106@calenda.revues.org
SUMMARY:Henry Corbin (1903-1978)
URL:https://calenda-formation.labocleo.org/188498
DESCRIPTION:Les interventions de ce colloque\, qui se tienda à Paris\, visent à élargir les horizons ouverts par ce penseur qui s'intéressa autant à la pensée d'Avicenne et de Sohravardi qu'à celle de Hegel ou de Heidegger.… Más informaciones https://calenda-formation.labocleo.org/188498
LOCATION:París
END:VEVENT
END:VCALENDAR
