BEGIN:VCALENDAR
VERSION:2.0
PRODID:-//https://calenda-formation.labocleo.org
X-WR-CALNAME:Calenda
X-WR-TIMEZONE:Europe/Paris
CALSCALE:GREGORIAN
X-WR-CALDESC:Le calendrier des lettres et sciences humaines et sociales
METHOD:PUBLISH
BEGIN:VEVENT
DTSTART;VALUE=DATE:20040215
DTEND;VALUE=DATE:20040216
UID:188503-20040215@calenda.revues.org
SUMMARY:Rencontres et syncrétisme
URL:https://calenda-formation.labocleo.org/188503
DESCRIPTION:Ce colloque se propose d’examiner la rencontre (de cultures\, de populations\, de langues) et ses conséquences (choc\, création\, mutation\, métissage\, disparition).… @plus_info https://calenda-formation.labocleo.org/188503
LOCATION:Le Havre
END:VEVENT
END:VCALENDAR
