BEGIN:VCALENDAR
VERSION:2.0
PRODID:-//https://calenda-formation.labocleo.org
X-WR-CALNAME:Calenda
X-WR-TIMEZONE:Europe/Paris
CALSCALE:GREGORIAN
X-WR-CALDESC:The calendar for arts, humanities and social sciences
METHOD:PUBLISH
BEGIN:VEVENT
DTSTART;VALUE=DATE:20031119
DTEND;VALUE=DATE:20031120
UID:188515-20031119@calenda.revues.org
SUMMARY:Dernières recherches en histoire des femmes et des rapports de sexe
URL:https://calenda-formation.labocleo.org/188515
DESCRIPTION:Programme du séminaire de Yannick Ripa à l'Universtiré Paris 8.… @plus_info https://calenda-formation.labocleo.org/188515
LOCATION:Paris
END:VEVENT
END:VCALENDAR
