BEGIN:VCALENDAR
VERSION:2.0
PRODID:-//https://calenda-formation.labocleo.org
X-WR-CALNAME:Calenda
X-WR-TIMEZONE:Europe/Paris
CALSCALE:GREGORIAN
X-WR-CALDESC:Le calendrier des lettres et sciences humaines et sociales
METHOD:PUBLISH
BEGIN:VEVENT
DTSTART;VALUE=DATE:20040301
DTEND;VALUE=DATE:20040302
UID:188555-20040301@calenda.revues.org
SUMMARY:Class\, Work and Revolution
URL:https://calenda-formation.labocleo.org/188555
DESCRIPTION:Class\, Work and RevolutionTwenty-Sixth Annual North American Labor History ConferenceWayne State University\,  October 21-23\, 2004The Program Committee of the North Ameri… @plus_info https://calenda-formation.labocleo.org/188555
LOCATION:
END:VEVENT
END:VCALENDAR
