BEGIN:VCALENDAR
VERSION:2.0
PRODID:-//https://calenda-formation.labocleo.org
X-WR-CALNAME:Calenda
X-WR-TIMEZONE:Europe/Paris
CALSCALE:GREGORIAN
X-WR-CALDESC:The calendar for arts, humanities and social sciences
METHOD:PUBLISH
BEGIN:VEVENT
DTSTART;VALUE=DATE:20031202
DTEND;VALUE=DATE:20031203
UID:188573-20031202@calenda.revues.org
SUMMARY:Ethnologie et politique de la ville
URL:https://calenda-formation.labocleo.org/188573
DESCRIPTION:Annonce de la prochaine séance du séminaire d'ethnologie appliquée\, Laboratoire d'Ethnologie et de Sociologie Comparative\, UMR 7535\, Paris X Nanterre.… @plus_info https://calenda-formation.labocleo.org/188573
LOCATION:Nanterre
END:VEVENT
END:VCALENDAR
