BEGIN:VCALENDAR
VERSION:2.0
PRODID:-//https://calenda-formation.labocleo.org
X-WR-CALNAME:Calenda
X-WR-TIMEZONE:Europe/Paris
CALSCALE:GREGORIAN
X-WR-CALDESC:O calendário de letras e de ciências sociais e humanas
METHOD:PUBLISH
BEGIN:VEVENT
DTSTART;VALUE=DATE:20031212
DTEND;VALUE=DATE:20031213
UID:188619-20031212@calenda.revues.org
SUMMARY:Rencontre à l'ENS autour de Henri Bergson\, Albert Kahn\, Correspondances
URL:https://calenda-formation.labocleo.org/188619
DESCRIPTION:Madame\, Monsieur\, A l'occasion de la sortie de notre dernière parution : Henri Bergson\, Albert Kahn\, Correspondances\, nous organisons une rencontre à l'ENS\, en présence des auteurs\, Sophie Coeuré… @plus_info https://calenda-formation.labocleo.org/188619
LOCATION:Paris
END:VEVENT
END:VCALENDAR
