BEGIN:VCALENDAR
VERSION:2.0
PRODID:-//https://calenda-formation.labocleo.org
X-WR-CALNAME:Calenda
X-WR-TIMEZONE:Europe/Paris
CALSCALE:GREGORIAN
X-WR-CALDESC:The calendar for arts, humanities and social sciences
METHOD:PUBLISH
BEGIN:VEVENT
DTSTART;VALUE=DATE:20040131
DTEND;VALUE=DATE:20040201
UID:188633-20040131@calenda.revues.org
SUMMARY:Interdisciplinarity and the Future of Theory in Nineteenth-Century French Studies
URL:https://calenda-formation.labocleo.org/188633
DESCRIPTION:This day will provide an opportunity for current and recent postgraduate students to reflect upon the role of theory and interdisciplinarity in their own research and upon the future of nineteenth-century French studies.… @plus_info https://calenda-formation.labocleo.org/188633
LOCATION:
END:VEVENT
END:VCALENDAR
