BEGIN:VCALENDAR
VERSION:2.0
PRODID:-//https://calenda-formation.labocleo.org
X-WR-CALNAME:Calenda
X-WR-TIMEZONE:Europe/Paris
CALSCALE:GREGORIAN
X-WR-CALDESC:O calendário de letras e de ciências sociais e humanas
METHOD:PUBLISH
BEGIN:VEVENT
DTSTART;VALUE=DATE:20031210
DTEND;VALUE=DATE:20031211
UID:188643-20031210@calenda.revues.org
SUMMARY:Séminaire d'histoire culturelle de Londres
URL:https://calenda-formation.labocleo.org/188643
DESCRIPTION:Séminaire d'histoire culturelle de Londres\, animé par Jacques Carré … @plus_info https://calenda-formation.labocleo.org/188643
LOCATION:Paris
END:VEVENT
END:VCALENDAR
