BEGIN:VCALENDAR
VERSION:2.0
PRODID:-//https://calenda-formation.labocleo.org
X-WR-CALNAME:Calenda
X-WR-TIMEZONE:Europe/Paris
CALSCALE:GREGORIAN
X-WR-CALDESC:The calendar for arts, humanities and social sciences
METHOD:PUBLISH
BEGIN:VEVENT
DTSTART;VALUE=DATE:20040330
DTEND;VALUE=DATE:20040331
UID:188710-20040330@calenda.revues.org
SUMMARY:De la connaissance des paysages à l’action paysagère
URL:https://calenda-formation.labocleo.org/188710
DESCRIPTION:Cette conférence est organisée par le Ministère de l’écologie et du développement durable avec l’appui du Cemagref. Elle clôture un programme national de recherche engagé en 1998 dont il est essentiel de confronter les résultats aux travaux réalisés … @plus_info https://calenda-formation.labocleo.org/188710
LOCATION:
END:VEVENT
END:VCALENDAR
