BEGIN:VCALENDAR
VERSION:2.0
PRODID:-//https://calenda-formation.labocleo.org
X-WR-CALNAME:Calenda
X-WR-TIMEZONE:Europe/Paris
CALSCALE:GREGORIAN
X-WR-CALDESC:The calendar for arts, humanities and social sciences
METHOD:PUBLISH
BEGIN:VEVENT
DTSTART;VALUE=DATE:20040315
DTEND;VALUE=DATE:20040316
UID:188718-20040315@calenda.revues.org
SUMMARY:La contestation dans les mondes périphériques des années 1950 au milieu des années 1970: discours\, pratiques\, lieux et réseaux
URL:https://calenda-formation.labocleo.org/188718
DESCRIPTION:Journée d'étude du groupe de travail "Histoire comparée des mondes périphériques"… @plus_info https://calenda-formation.labocleo.org/188718
LOCATION:Paris
END:VEVENT
END:VCALENDAR
