BEGIN:VCALENDAR
VERSION:2.0
PRODID:-//https://calenda-formation.labocleo.org
X-WR-CALNAME:Calenda
X-WR-TIMEZONE:Europe/Paris
CALSCALE:GREGORIAN
X-WR-CALDESC:Le calendrier des lettres et sciences humaines et sociales
METHOD:PUBLISH
BEGIN:VEVENT
DTSTART;VALUE=DATE:20040218
DTEND;VALUE=DATE:20040219
UID:188733-20040218@calenda.revues.org
SUMMARY:Le phénomène des missions d’évangélisation
URL:https://calenda-formation.labocleo.org/188733
DESCRIPTION:Le phénomène des missions d’évangélisation dans l’histoire du christianisme du Moyen Âge à l’époque contemporaine. Problèmes et méthodes … @plus_info https://calenda-formation.labocleo.org/188733
LOCATION:Rome
END:VEVENT
END:VCALENDAR
