BEGIN:VCALENDAR
VERSION:2.0
PRODID:-//https://calenda-formation.labocleo.org
X-WR-CALNAME:Calenda
X-WR-TIMEZONE:Europe/Paris
CALSCALE:GREGORIAN
X-WR-CALDESC:The calendar for arts, humanities and social sciences
METHOD:PUBLISH
BEGIN:VEVENT
DTSTART;VALUE=DATE:20040402
DTEND;VALUE=DATE:20040403
UID:188735-20040402@calenda.revues.org
SUMMARY:Le communisme et les élites en Europe centrale
URL:https://calenda-formation.labocleo.org/188735
DESCRIPTION:Depuis l'effondrement du bloc soviétique en Europe centrale autour de 1989\, le thème des élites\, et notamment du devenir des anciennes élites communistes\, a pris une place centrale dans les recherches sociologiques ou politistes menées sur cette régi… @plus_info https://calenda-formation.labocleo.org/188735
LOCATION:Paris
END:VEVENT
END:VCALENDAR
