BEGIN:VCALENDAR
VERSION:2.0
PRODID:-//https://calenda-formation.labocleo.org
X-WR-CALNAME:Calenda
X-WR-TIMEZONE:Europe/Paris
CALSCALE:GREGORIAN
X-WR-CALDESC:Le calendrier des lettres et sciences humaines et sociales
METHOD:PUBLISH
BEGIN:VEVENT
DTSTART;VALUE=DATE:20040307
DTEND;VALUE=DATE:20040308
UID:188770-20040307@calenda.revues.org
SUMMARY:Justice et justiciables en France du Moyen Âge à nos jours: regards et représentations
URL:https://calenda-formation.labocleo.org/188770
DESCRIPTION:… Weitere Informationen https://calenda-formation.labocleo.org/188770
LOCATION:Aix-en-Provence
END:VEVENT
END:VCALENDAR
