BEGIN:VCALENDAR
VERSION:2.0
PRODID:-//https://calenda-formation.labocleo.org
X-WR-CALNAME:Calenda
X-WR-TIMEZONE:Europe/Paris
CALSCALE:GREGORIAN
X-WR-CALDESC:Le calendrier des lettres et sciences humaines et sociales
METHOD:PUBLISH
BEGIN:VEVENT
DTSTART;VALUE=DATE:20040415
DTEND;VALUE=DATE:20040416
UID:188911-20040415@calenda.revues.org
SUMMARY:Les arts du feu en Normandie
URL:https://calenda-formation.labocleo.org/188911
DESCRIPTION:XXXIXe congrès des sociétés historiques et archéologiques de Normandie organisé par la Fédération des sociétés historiques et archéologiques de Normandie\, avec le concours de la ville d’Eu\, de l’association des amis du vieil Eu et de l’association de… Weitere Informationen https://calenda-formation.labocleo.org/188911
LOCATION:Eu
END:VEVENT
END:VCALENDAR
