BEGIN:VCALENDAR
VERSION:2.0
PRODID:-//https://calenda-formation.labocleo.org
X-WR-CALNAME:Calenda
X-WR-TIMEZONE:Europe/Paris
CALSCALE:GREGORIAN
X-WR-CALDESC:Le calendrier des lettres et sciences humaines et sociales
METHOD:PUBLISH
BEGIN:VEVENT
DTSTART;VALUE=DATE:20040527
DTEND;VALUE=DATE:20040528
UID:188926-20040527@calenda.revues.org
SUMMARY:Collecte et analyse de la littérature orale
URL:https://calenda-formation.labocleo.org/188926
DESCRIPTION:9h 30 : La collecte de la littérature orale / Daniel Loddo Constitution d'un terrain et méthodes de collectage. Problèmes posés par la collecte de certains textes de littérature orale : différences d'appellation entre le point de vue externe et inter… Más informaciones https://calenda-formation.labocleo.org/188926
LOCATION:Tolosa\, Cordes-sur-Ciel
END:VEVENT
BEGIN:VEVENT
DTSTART;VALUE=DATE:20040528
DTEND;VALUE=DATE:20040529
UID:188926-20040528@calenda.revues.org
SUMMARY:Collecte et analyse de la littérature orale
URL:https://calenda-formation.labocleo.org/188926
DESCRIPTION:9h 30 : La collecte de la littérature orale / Daniel Loddo Constitution d'un terrain et méthodes de collectage. Problèmes posés par la collecte de certains textes de littérature orale : différences d'appellation entre le point de vue externe et inter… Más informaciones https://calenda-formation.labocleo.org/188926
LOCATION:Tolosa\, Cordes-sur-Ciel
END:VEVENT
END:VCALENDAR
