BEGIN:VCALENDAR
VERSION:2.0
PRODID:-//https://calenda-formation.labocleo.org
X-WR-CALNAME:Calenda
X-WR-TIMEZONE:Europe/Paris
CALSCALE:GREGORIAN
X-WR-CALDESC:The calendar for arts, humanities and social sciences
METHOD:PUBLISH
BEGIN:VEVENT
DTSTART;VALUE=DATE:20040326
DTEND;VALUE=DATE:20040327
UID:188945-20040326@calenda.revues.org
SUMMARY:Approche ethno-sociologique de l'allergie alimentaire et de la nutrition
URL:https://calenda-formation.labocleo.org/188945
DESCRIPTION:Au cours des dernières décennies\, la préoccupation du grand “ public ” concernant la sécurité et la qualité des produits alimentaires n’a cessé de grandir. Les consommateurs veulent ainsi avoir la certitude que les aliments qu’ils achètent dans les s… @plus_info https://calenda-formation.labocleo.org/188945
LOCATION:Rennes
END:VEVENT
END:VCALENDAR
