BEGIN:VCALENDAR
VERSION:2.0
PRODID:-//https://calenda-formation.labocleo.org
X-WR-CALNAME:Calenda
X-WR-TIMEZONE:Europe/Paris
CALSCALE:GREGORIAN
X-WR-CALDESC:O calendário de letras e de ciências sociais e humanas
METHOD:PUBLISH
BEGIN:VEVENT
DTSTART;VALUE=DATE:20040426
DTEND;VALUE=DATE:20040427
UID:188987-20040426@calenda.revues.org
SUMMARY:Etudier\, chercher ailleurs
URL:https://calenda-formation.labocleo.org/188987
DESCRIPTION:… @plus_info https://calenda-formation.labocleo.org/188987
LOCATION:Paris
END:VEVENT
END:VCALENDAR
