BEGIN:VCALENDAR
VERSION:2.0
PRODID:-//https://calenda-formation.labocleo.org
X-WR-CALNAME:Calenda
X-WR-TIMEZONE:Europe/Paris
CALSCALE:GREGORIAN
X-WR-CALDESC:The calendar for arts, humanities and social sciences
METHOD:PUBLISH
BEGIN:VEVENT
DTSTART;VALUE=DATE:20040428
DTEND;VALUE=DATE:20040429
UID:188997-20040428@calenda.revues.org
SUMMARY:Le nouvel expansionnisme américain
URL:https://calenda-formation.labocleo.org/188997
DESCRIPTION:Avec Pierre Lagayette\, directeur du Centre de Recherches « L’Ouest américain et l’Asie/Pacifique anglophone »de l’Université de Paris IV Et Tony Smith\, professeur de Sciences Politiques de l’Université Tufts et Senior Associate at the Center for Euro… @plus_info https://calenda-formation.labocleo.org/188997
LOCATION:Paris
END:VEVENT
END:VCALENDAR
