BEGIN:VCALENDAR
VERSION:2.0
PRODID:-//https://calenda-formation.labocleo.org
X-WR-CALNAME:Calenda
X-WR-TIMEZONE:Europe/Paris
CALSCALE:GREGORIAN
X-WR-CALDESC:Le calendrier des lettres et sciences humaines et sociales
METHOD:PUBLISH
BEGIN:VEVENT
DTSTART;VALUE=DATE:20040930
DTEND;VALUE=DATE:20041001
UID:189128-20040930@calenda.revues.org
SUMMARY:Commerce et développement durable
URL:https://calenda-formation.labocleo.org/189128
DESCRIPTION:Sans doute y a-t-il quelque paradoxe à associer la fonction commerciale à la notion de développement durable\, tant le commerce apparaît fréquemment comme un puissant moteur d’un développement « sans frein »\, peu soucieux de durabilité. Toutefois\, des… Más informaciones https://calenda-formation.labocleo.org/189128
LOCATION:Tolosa
END:VEVENT
END:VCALENDAR
