BEGIN:VCALENDAR
VERSION:2.0
PRODID:-//https://calenda-formation.labocleo.org
X-WR-CALNAME:Calenda
X-WR-TIMEZONE:Europe/Paris
CALSCALE:GREGORIAN
X-WR-CALDESC:The calendar for arts, humanities and social sciences
METHOD:PUBLISH
BEGIN:VEVENT
DTSTART;VALUE=DATE:20041015
DTEND;VALUE=DATE:20041016
UID:189154-20041015@calenda.revues.org
SUMMARY:Infantuation : Childhood\, Youth\, and Nineteenth-Century Culture
URL:https://calenda-formation.labocleo.org/189154
DESCRIPTION:During the nineteenth century\, you couldn't turn a corner - or a page - without some broom-wielding urchin\, be-ribboned cherub\, or herd of baby buggies getting in your way.  How much of this was due to an actual change in population and how much of i… @plus_info https://calenda-formation.labocleo.org/189154
LOCATION:Augusta
END:VEVENT
END:VCALENDAR
