BEGIN:VCALENDAR
VERSION:2.0
PRODID:-//https://calenda-formation.labocleo.org
X-WR-CALNAME:Calenda
X-WR-TIMEZONE:Europe/Paris
CALSCALE:GREGORIAN
X-WR-CALDESC:Le calendrier des lettres et sciences humaines et sociales
METHOD:PUBLISH
BEGIN:VEVENT
DTSTART;VALUE=DATE:20041007
DTEND;VALUE=DATE:20041008
UID:189200-20041007@calenda.revues.org
SUMMARY:Journées européennes sur les DTD (Document Type Définition) EAD (Encoded Archival Description) et EAC (Encoded Archival Context)
URL:https://calenda-formation.labocleo.org/189200
DESCRIPTION:Deux ans après la tenue\, dans le grand auditorium de la Bibliothèque nationale de France\, d’une journée d’étude sur la DTD EAD et ses applications patrimoniales dans les archives et les bibliothèques\, la direction des Archives de France organise\, les… Weitere Informationen https://calenda-formation.labocleo.org/189200
LOCATION:Paris
END:VEVENT
END:VCALENDAR
