BEGIN:VCALENDAR
VERSION:2.0
PRODID:-//https://calenda-formation.labocleo.org
X-WR-CALNAME:Calenda
X-WR-TIMEZONE:Europe/Paris
CALSCALE:GREGORIAN
X-WR-CALDESC:The calendar for arts, humanities and social sciences
METHOD:PUBLISH
BEGIN:VEVENT
DTSTART;VALUE=DATE:20040903
DTEND;VALUE=DATE:20040904
UID:189212-20040903@calenda.revues.org
SUMMARY:L'histoire comme arme de guerre
URL:https://calenda-formation.labocleo.org/189212
DESCRIPTION:… @plus_info https://calenda-formation.labocleo.org/189212
LOCATION:Geneva
END:VEVENT
END:VCALENDAR
