BEGIN:VCALENDAR
VERSION:2.0
PRODID:-//https://calenda-formation.labocleo.org
X-WR-CALNAME:Calenda
X-WR-TIMEZONE:Europe/Paris
CALSCALE:GREGORIAN
X-WR-CALDESC:Le calendrier des lettres et sciences humaines et sociales
METHOD:PUBLISH
BEGIN:VEVENT
DTSTART;VALUE=DATE:20041231
DTEND;VALUE=DATE:20050101
UID:189245-20041231@calenda.revues.org
SUMMARY:Les langages du post-colonial
URL:https://calenda-formation.labocleo.org/189245
DESCRIPTION:… Weitere Informationen https://calenda-formation.labocleo.org/189245
LOCATION:
END:VEVENT
END:VCALENDAR
