BEGIN:VCALENDAR
VERSION:2.0
PRODID:-//https://calenda-formation.labocleo.org
X-WR-CALNAME:Calenda
X-WR-TIMEZONE:Europe/Paris
CALSCALE:GREGORIAN
X-WR-CALDESC:Le calendrier des lettres et sciences humaines et sociales
METHOD:PUBLISH
BEGIN:VEVENT
DTSTART;VALUE=DATE:20040925
DTEND;VALUE=DATE:20040926
UID:189302-20040925@calenda.revues.org
SUMMARY:Leon Battista Alberti\, humaniste et architecte
URL:https://calenda-formation.labocleo.org/189302
DESCRIPTION:… Weitere Informationen https://calenda-formation.labocleo.org/189302
LOCATION:Paris
END:VEVENT
END:VCALENDAR
