BEGIN:VCALENDAR
VERSION:2.0
PRODID:-//https://calenda-formation.labocleo.org
X-WR-CALNAME:Calenda
X-WR-TIMEZONE:Europe/Paris
CALSCALE:GREGORIAN
X-WR-CALDESC:The calendar for arts, humanities and social sciences
METHOD:PUBLISH
BEGIN:VEVENT
DTSTART;VALUE=DATE:20041006
DTEND;VALUE=DATE:20041007
UID:189328-20041006@calenda.revues.org
SUMMARY:Rencontres nationales de l'éducation
URL:https://calenda-formation.labocleo.org/189328
DESCRIPTION:Les Rencontres nationales de l'éducation proposent aux acteurs de l'éducation en France de se retrouver tous les 2 ans pendant trois jours autour d'une problématique éducative.… @plus_info https://calenda-formation.labocleo.org/189328
LOCATION:Rennes
END:VEVENT
END:VCALENDAR
