BEGIN:VCALENDAR
VERSION:2.0
PRODID:-//https://calenda-formation.labocleo.org
X-WR-CALNAME:Calenda
X-WR-TIMEZONE:Europe/Paris
CALSCALE:GREGORIAN
X-WR-CALDESC:Le calendrier des lettres et sciences humaines et sociales
METHOD:PUBLISH
BEGIN:VEVENT
DTSTART;VALUE=DATE:20041015
DTEND;VALUE=DATE:20041016
UID:189413-20041015@calenda.revues.org
SUMMARY:Les territoires
URL:https://calenda-formation.labocleo.org/189413
DESCRIPTION:… @plus_info https://calenda-formation.labocleo.org/189413
LOCATION:Rennes
END:VEVENT
END:VCALENDAR
