BEGIN:VCALENDAR
VERSION:2.0
PRODID:-//https://calenda-formation.labocleo.org
X-WR-CALNAME:Calenda
X-WR-TIMEZONE:Europe/Paris
CALSCALE:GREGORIAN
X-WR-CALDESC:The calendar for arts, humanities and social sciences
METHOD:PUBLISH
BEGIN:VEVENT
DTSTART;VALUE=DATE:20041111
DTEND;VALUE=DATE:20041112
UID:189424-20041111@calenda.revues.org
SUMMARY:Le bizutage : entre initiation et perversion
URL:https://calenda-formation.labocleo.org/189424
DESCRIPTION:avec Samuel Lepastier\, psychiatre… @plus_info https://calenda-formation.labocleo.org/189424
LOCATION:Paris
END:VEVENT
END:VCALENDAR
