BEGIN:VCALENDAR
VERSION:2.0
PRODID:-//https://calenda-formation.labocleo.org
X-WR-CALNAME:Calenda
X-WR-TIMEZONE:Europe/Paris
CALSCALE:GREGORIAN
X-WR-CALDESC:The calendar for arts, humanities and social sciences
METHOD:PUBLISH
BEGIN:VEVENT
DTSTART;VALUE=DATE:20041012
DTEND;VALUE=DATE:20041013
UID:189429-20041012@calenda.revues.org
SUMMARY:La question alévie en Turquie d’aujourd’hui
URL:https://calenda-formation.labocleo.org/189429
DESCRIPTION:Journée d'étude organisée par l'Institut d’études de l’Islam et des Sociétés du Monde Musulman et le Centre d’Histoire sociale du Domaine Turc… @plus_info https://calenda-formation.labocleo.org/189429
LOCATION:Paris
END:VEVENT
END:VCALENDAR
