BEGIN:VCALENDAR
VERSION:2.0
PRODID:-//https://calenda-formation.labocleo.org
X-WR-CALNAME:Calenda
X-WR-TIMEZONE:Europe/Paris
CALSCALE:GREGORIAN
X-WR-CALDESC:Le calendrier des lettres et sciences humaines et sociales
METHOD:PUBLISH
BEGIN:VEVENT
DTSTART;VALUE=DATE:20041119
DTEND;VALUE=DATE:20041120
UID:189444-20041119@calenda.revues.org
SUMMARY:La politique de George W Bush expliquée
URL:https://calenda-formation.labocleo.org/189444
DESCRIPTION:Les conférences littéraires relèvent d'une nouvelle formule que la Chaire Raoul-Dandurand souhaite instaurer avec la collaboration étroite de la Fondation Métropolis bleu. Le coup d'envoi de cette série d'événements profitera de la parution de deux o… @plus_info https://calenda-formation.labocleo.org/189444
LOCATION:Montréal
END:VEVENT
END:VCALENDAR
